BEGIN:VCALENDAR
VERSION:2.0
PRODID:-//Sip at 1620 - ECPv6.15.20//NONSGML v1.0//EN
CALSCALE:GREGORIAN
METHOD:PUBLISH
X-ORIGINAL-URL:https://1620winebar.com
X-WR-CALDESC:Events for Sip at 1620
REFRESH-INTERVAL;VALUE=DURATION:PT1H
X-Robots-Tag:noindex
X-PUBLISHED-TTL:PT1H
BEGIN:VTIMEZONE
TZID:America/New_York
BEGIN:DAYLIGHT
TZOFFSETFROM:-0500
TZOFFSETTO:-0400
TZNAME:EDT
DTSTART:20250309T070000
END:DAYLIGHT
BEGIN:STANDARD
TZOFFSETFROM:-0400
TZOFFSETTO:-0500
TZNAME:EST
DTSTART:20251102T060000
END:STANDARD
BEGIN:DAYLIGHT
TZOFFSETFROM:-0500
TZOFFSETTO:-0400
TZNAME:EDT
DTSTART:20260308T070000
END:DAYLIGHT
BEGIN:STANDARD
TZOFFSETFROM:-0400
TZOFFSETTO:-0500
TZNAME:EST
DTSTART:20261101T060000
END:STANDARD
BEGIN:DAYLIGHT
TZOFFSETFROM:-0500
TZOFFSETTO:-0400
TZNAME:EDT
DTSTART:20270314T070000
END:DAYLIGHT
BEGIN:STANDARD
TZOFFSETFROM:-0400
TZOFFSETTO:-0500
TZNAME:EST
DTSTART:20271107T060000
END:STANDARD
END:VTIMEZONE
BEGIN:VEVENT
DTSTART;TZID=America/New_York:20260404T180000
DTEND;TZID=America/New_York:20260404T210000
DTSTAMP:20260424T072501
CREATED:20241024T192848Z
LAST-MODIFIED:20260419T002530Z
UID:10000574-1775325600-1775336400@1620winebar.com
SUMMARY:Live Music with John Foster
DESCRIPTION:John’s extensive professional musical and performance career spans over 20 years. A highly skilled musician with an exceptional voice John is performing acoustic solo shows in the New England area. His seemingly unlimited repertoire covers popular classic\, contemporary and original music. He recently completed a project with the “Jim Libby Band” winners of the 2013 “MCMAA Horizon Band” award.
URL:https://1620winebar.com/event/john-foster/2026-04-04/
LOCATION:Sip at 1620 Wine Bar\, 170 Water Street\, Plymouth\, 02360\, United States
ATTACH;FMTTYPE=image/jpeg:https://1620winebar.com/wp-content/uploads/2024/10/john-foster.jpg
END:VEVENT
END:VCALENDAR