BEGIN:VCALENDAR
VERSION:2.0
PRODID:-//Sip at 1620 - ECPv6.15.20//NONSGML v1.0//EN
CALSCALE:GREGORIAN
METHOD:PUBLISH
X-WR-CALNAME:Sip at 1620
X-ORIGINAL-URL:https://1620winebar.com
X-WR-CALDESC:Events for Sip at 1620
REFRESH-INTERVAL;VALUE=DURATION:PT1H
X-Robots-Tag:noindex
X-PUBLISHED-TTL:PT1H
BEGIN:VTIMEZONE
TZID:America/New_York
BEGIN:DAYLIGHT
TZOFFSETFROM:-0500
TZOFFSETTO:-0400
TZNAME:EDT
DTSTART:20250309T070000
END:DAYLIGHT
BEGIN:STANDARD
TZOFFSETFROM:-0400
TZOFFSETTO:-0500
TZNAME:EST
DTSTART:20251102T060000
END:STANDARD
BEGIN:DAYLIGHT
TZOFFSETFROM:-0500
TZOFFSETTO:-0400
TZNAME:EDT
DTSTART:20260308T070000
END:DAYLIGHT
BEGIN:STANDARD
TZOFFSETFROM:-0400
TZOFFSETTO:-0500
TZNAME:EST
DTSTART:20261101T060000
END:STANDARD
BEGIN:DAYLIGHT
TZOFFSETFROM:-0500
TZOFFSETTO:-0400
TZNAME:EDT
DTSTART:20270314T070000
END:DAYLIGHT
BEGIN:STANDARD
TZOFFSETFROM:-0400
TZOFFSETTO:-0500
TZNAME:EST
DTSTART:20271107T060000
END:STANDARD
END:VTIMEZONE
BEGIN:VEVENT
DTSTART;TZID=America/New_York:20260418T180000
DTEND;TZID=America/New_York:20260418T210000
DTSTAMP:20260419T084623
CREATED:20250627T181534Z
LAST-MODIFIED:20260419T011248Z
UID:10000591-1776535200-1776546000@1620winebar.com
SUMMARY:Live Music with Mackenzie Lee Clement
DESCRIPTION:Mackenzie Lee Clement is a 23 year old Massachusetts-based singer\, songwriter and pianist. A recent Berklee College of Music graduate\, her style reflects the compositions of Stevie Wonder\, Carol King\, Elton John and others\, blending new style with old classics.
URL:https://1620winebar.com/event/live-music-with-mackenzie-lee-clement-2/2026-04-18/
LOCATION:Sip at 1620 Wine Bar\, 170 Water Street\, Plymouth\, 02360\, United States
CATEGORIES:Entertainment,Live Music
ATTACH;FMTTYPE=image/jpeg:https://1620winebar.com/wp-content/uploads/2025/06/mackenzie.jpg
END:VEVENT
BEGIN:VEVENT
DTSTART;TZID=America/New_York:20260418T180000
DTEND;TZID=America/New_York:20260418T210000
DTSTAMP:20260419T084623
CREATED:20260220T165231Z
LAST-MODIFIED:20260419T001721Z
UID:10000660-1776535200-1776546000@1620winebar.com
SUMMARY:Live Music with Kyle Morrison
DESCRIPTION:Kyle is a force to be reckoned with\, both on electric and acoustic guitar as well as lead/harmonizing vocals.
URL:https://1620winebar.com/event/live-music-with-kyle-morrison-2/2026-04-18/
LOCATION:Sip at 1620 Wine Bar\, 170 Water Street\, Plymouth\, 02360\, United States
CATEGORIES:Entertainment,Events,Live Music
ATTACH;FMTTYPE=image/jpeg:https://1620winebar.com/wp-content/uploads/2025/09/kyle-morrison.jpg
END:VEVENT
END:VCALENDAR