BEGIN:VCALENDAR
VERSION:2.0
PRODID:-//Sip at 1620 - ECPv6.15.20//NONSGML v1.0//EN
CALSCALE:GREGORIAN
METHOD:PUBLISH
X-ORIGINAL-URL:https://1620winebar.com
X-WR-CALDESC:Events for Sip at 1620
REFRESH-INTERVAL;VALUE=DURATION:PT1H
X-Robots-Tag:noindex
X-PUBLISHED-TTL:PT1H
BEGIN:VTIMEZONE
TZID:America/New_York
BEGIN:DAYLIGHT
TZOFFSETFROM:-0500
TZOFFSETTO:-0400
TZNAME:EDT
DTSTART:20250309T070000
END:DAYLIGHT
BEGIN:STANDARD
TZOFFSETFROM:-0400
TZOFFSETTO:-0500
TZNAME:EST
DTSTART:20251102T060000
END:STANDARD
BEGIN:DAYLIGHT
TZOFFSETFROM:-0500
TZOFFSETTO:-0400
TZNAME:EDT
DTSTART:20260308T070000
END:DAYLIGHT
BEGIN:STANDARD
TZOFFSETFROM:-0400
TZOFFSETTO:-0500
TZNAME:EST
DTSTART:20261101T060000
END:STANDARD
BEGIN:DAYLIGHT
TZOFFSETFROM:-0500
TZOFFSETTO:-0400
TZNAME:EDT
DTSTART:20270314T070000
END:DAYLIGHT
BEGIN:STANDARD
TZOFFSETFROM:-0400
TZOFFSETTO:-0500
TZNAME:EST
DTSTART:20271107T060000
END:STANDARD
END:VTIMEZONE
BEGIN:VEVENT
DTSTART;TZID=America/New_York:20260422T160000
DTEND;TZID=America/New_York:20260422T210000
DTSTAMP:20260419T084127
CREATED:20260205T235329Z
LAST-MODIFIED:20260205T235542Z
UID:10000610-1776873600-1776891600@1620winebar.com
SUMMARY:Sip 10 Year Anniversary Fiesta
DESCRIPTION:The entire staff of Sip @ 1620 Wine Bar (And The 1620 Winery) is being taken on a trip to Mexico to Celebrate 10 Years in Business! Come send them off in style with a special “Fiesta” menu featuring elevated Mexican street foods and amazing Mexican-inspired cocktails. (Our regular full menu will also be available of course!) Whether you’re a “regular” or a first-timer\, this will be a fun (and delicious) evening at Sip not to be missed! \nTHIS IS A PUBLIC\, NON-TICKETED EVENT. EVERYONE (21+) IS WELCOME! \nFIESTA MENU:\nElevated Mexican Street Food: \nStreet Tacos\nHouse made corn tortillas stuffed with tender pork belly\, salsa fresca\, jalapeno & topped with cojita \nBirria Dip\nSlow braised beef birria dip topped with cilantro & white onion served with corn tortilla chips \nStreet Corn (Elote) Salad\nSweet corn\, red pepper\, onion\, cilantro\, lemon mayo\, cojita & fresh spices mixed together to make a vibrant street corn salad \nCinnamon Sugar Dusted Churros\nServed with raspberry jam & chocolate wine sauce \nMexico-Inspired Cocktails: \nPaloma Spritz \nMargarita/ Spicy Margarita \nTequila Old Fashioned \nEl Jefe
URL:https://1620winebar.com/event/sip-10-year-anniversary-fiesta/
LOCATION:Sip at 1620 Wine Bar\, 170 Water Street\, Plymouth\, 02360\, United States
ATTACH;FMTTYPE=image/jpeg:https://1620winebar.com/wp-content/uploads/2026/02/mwxsocialjpg-1.jpg
END:VEVENT
END:VCALENDAR