BEGIN:VCALENDAR
VERSION:2.0
PRODID:-//Sip at 1620 - ECPv6.15.20//NONSGML v1.0//EN
CALSCALE:GREGORIAN
METHOD:PUBLISH
X-ORIGINAL-URL:https://1620winebar.com
X-WR-CALDESC:Events for Sip at 1620
REFRESH-INTERVAL;VALUE=DURATION:PT1H
X-Robots-Tag:noindex
X-PUBLISHED-TTL:PT1H
BEGIN:VTIMEZONE
TZID:America/New_York
BEGIN:DAYLIGHT
TZOFFSETFROM:-0500
TZOFFSETTO:-0400
TZNAME:EDT
DTSTART:20250309T070000
END:DAYLIGHT
BEGIN:STANDARD
TZOFFSETFROM:-0400
TZOFFSETTO:-0500
TZNAME:EST
DTSTART:20251102T060000
END:STANDARD
BEGIN:DAYLIGHT
TZOFFSETFROM:-0500
TZOFFSETTO:-0400
TZNAME:EDT
DTSTART:20260308T070000
END:DAYLIGHT
BEGIN:STANDARD
TZOFFSETFROM:-0400
TZOFFSETTO:-0500
TZNAME:EST
DTSTART:20261101T060000
END:STANDARD
BEGIN:DAYLIGHT
TZOFFSETFROM:-0500
TZOFFSETTO:-0400
TZNAME:EDT
DTSTART:20270314T070000
END:DAYLIGHT
BEGIN:STANDARD
TZOFFSETFROM:-0400
TZOFFSETTO:-0500
TZNAME:EST
DTSTART:20271107T060000
END:STANDARD
BEGIN:DAYLIGHT
TZOFFSETFROM:-0500
TZOFFSETTO:-0400
TZNAME:EDT
DTSTART:20280312T070000
END:DAYLIGHT
BEGIN:STANDARD
TZOFFSETFROM:-0400
TZOFFSETTO:-0500
TZNAME:EST
DTSTART:20281105T060000
END:STANDARD
END:VTIMEZONE
BEGIN:VEVENT
DTSTART;TZID=America/New_York:20260926T180000
DTEND;TZID=America/New_York:20260926T210000
DTSTAMP:20260423T031419
CREATED:20240328T145729Z
LAST-MODIFIED:20260418T235638Z
UID:10000642-1790445600-1790456400@1620winebar.com
SUMMARY:Live Music with Paul Horton
DESCRIPTION:Singer\, songwriter and professional musician\, Paul Horton has played venues large and small over the past 25 years. With a perfect set list\, warm vocals and great rhythm guitar chops\, Paul creates the perfect mood for dining\, drinking and appreciating your favorite songs delivered with real feeling.
URL:https://1620winebar.com/event/live-music-with-paul-horton/2026-09-26/
LOCATION:Sip at 1620 Wine Bar\, 170 Water Street\, Plymouth\, 02360\, United States
CATEGORIES:Entertainment,Live Music
ATTACH;FMTTYPE=image/jpeg:https://1620winebar.com/wp-content/uploads/2024/03/horton.jpg
END:VEVENT
BEGIN:VEVENT
DTSTART;TZID=America/New_York:20261002T180000
DTEND;TZID=America/New_York:20261002T210000
DTSTAMP:20260423T031419
CREATED:20250820T221634Z
LAST-MODIFIED:20260419T003117Z
UID:10000678-1790964000-1790974800@1620winebar.com
SUMMARY:Live Music with John Chebator
DESCRIPTION:John Chebator is a staple in the music scene on the south shore and well beyong. Come check out his great setlist!
URL:https://1620winebar.com/event/live-music-with-john-chebator/2026-10-02/
LOCATION:Sip at 1620 Wine Bar\, 170 Water Street\, Plymouth\, 02360\, United States
CATEGORIES:Entertainment,Events,Live Music
ATTACH;FMTTYPE=image/jpeg:https://1620winebar.com/wp-content/uploads/2025/08/john-chebator.jpg
END:VEVENT
BEGIN:VEVENT
DTSTART;TZID=America/New_York:20261003T180000
DTEND;TZID=America/New_York:20261003T210000
DTSTAMP:20260423T031419
CREATED:20240328T145729Z
LAST-MODIFIED:20260418T235638Z
UID:10000643-1791050400-1791061200@1620winebar.com
SUMMARY:Live Music with Paul Horton
DESCRIPTION:Singer\, songwriter and professional musician\, Paul Horton has played venues large and small over the past 25 years. With a perfect set list\, warm vocals and great rhythm guitar chops\, Paul creates the perfect mood for dining\, drinking and appreciating your favorite songs delivered with real feeling.
URL:https://1620winebar.com/event/live-music-with-paul-horton/2026-10-03/
LOCATION:Sip at 1620 Wine Bar\, 170 Water Street\, Plymouth\, 02360\, United States
CATEGORIES:Entertainment,Live Music
ATTACH;FMTTYPE=image/jpeg:https://1620winebar.com/wp-content/uploads/2024/03/horton.jpg
END:VEVENT
BEGIN:VEVENT
DTSTART;TZID=America/New_York:20261009T180000
DTEND;TZID=America/New_York:20261009T210000
DTSTAMP:20260423T031419
CREATED:20241024T192848Z
LAST-MODIFIED:20260419T002530Z
UID:10000670-1791568800-1791579600@1620winebar.com
SUMMARY:Live Music with John Foster
DESCRIPTION:John’s extensive professional musical and performance career spans over 20 years. A highly skilled musician with an exceptional voice John is performing acoustic solo shows in the New England area. His seemingly unlimited repertoire covers popular classic\, contemporary and original music. He recently completed a project with the “Jim Libby Band” winners of the 2013 “MCMAA Horizon Band” award.
URL:https://1620winebar.com/event/john-foster/2026-10-09/
LOCATION:Sip at 1620 Wine Bar\, 170 Water Street\, Plymouth\, 02360\, United States
ATTACH;FMTTYPE=image/jpeg:https://1620winebar.com/wp-content/uploads/2024/10/john-foster.jpg
END:VEVENT
BEGIN:VEVENT
DTSTART;TZID=America/New_York:20261010T180000
DTEND;TZID=America/New_York:20261010T210000
DTSTAMP:20260423T031419
CREATED:20241003T172506Z
LAST-MODIFIED:20260419T005122Z
UID:10000691-1791655200-1791666000@1620winebar.com
SUMMARY:Live Music with Chris Ballerini
DESCRIPTION:South Shore native Chris Ballerini has been writing songs and performing all over New England since returning from Alaska in 2015. He formed the band SixFoxWhiskey shortly thereafter\, releasing three studio albums and several singles with the group.
URL:https://1620winebar.com/event/chris-ballerini/2026-10-10/
LOCATION:Sip at 1620 Wine Bar\, 170 Water Street\, Plymouth\, 02360\, United States
CATEGORIES:Live Music
ATTACH;FMTTYPE=image/jpeg:https://1620winebar.com/wp-content/uploads/2024/10/chris-ballerini.jpg
END:VEVENT
BEGIN:VEVENT
DTSTART;TZID=America/New_York:20261016T180000
DTEND;TZID=America/New_York:20261016T210000
DTSTAMP:20260423T031419
CREATED:20250716T141629Z
LAST-MODIFIED:20260419T000626Z
UID:10000655-1792173600-1792184400@1620winebar.com
SUMMARY:Live Music with Munk Duane
DESCRIPTION:2x New England Music Award Winner:\n2018 Male Performer Of The Year | 2019 Video Of The Year – “Another Day Another Bullet”
URL:https://1620winebar.com/event/live-music-with-munk-duane/2026-10-16/
LOCATION:Sip at 1620 Wine Bar\, 170 Water Street\, Plymouth\, 02360\, United States
CATEGORIES:Entertainment,Events,Live Music
ATTACH;FMTTYPE=image/jpeg:https://1620winebar.com/wp-content/uploads/2025/07/munk-duane.jpg
END:VEVENT
BEGIN:VEVENT
DTSTART;TZID=America/New_York:20261017T180000
DTEND;TZID=America/New_York:20261017T210000
DTSTAMP:20260423T031419
CREATED:20240904T180633Z
LAST-MODIFIED:20260419T000101Z
UID:10000651-1792260000-1792270800@1620winebar.com
SUMMARY:Live Music with Valerie Barretto
DESCRIPTION:A female singer/songwriter with a distinctly authentic country flair\, Valerie Barretto is a major draw at venues across the south shore. Come see what the buzz is all about.
URL:https://1620winebar.com/event/live-music-with-valerie-barretto-3/2026-10-17/
LOCATION:Sip at 1620 Wine Bar\, 170 Water Street\, Plymouth\, 02360\, United States
CATEGORIES:Entertainment,Live Music
ATTACH;FMTTYPE=image/jpeg:https://1620winebar.com/wp-content/uploads/2024/03/valerie2.jpg
END:VEVENT
BEGIN:VEVENT
DTSTART;TZID=America/New_York:20261021T180000
DTEND;TZID=America/New_York:20261021T210000
DTSTAMP:20260423T031419
CREATED:20260227T133032Z
LAST-MODIFIED:20260227T133032Z
UID:10000625-1792605600-1792616400@1620winebar.com
SUMMARY:Murder Mystery Dinner at Sip
DESCRIPTION:Get ready for a different kind of night out with the Sip Murder Mystery Dinner.\nCLICK HERE FOR TICKETS\nAnother fun event to celebrate 10 Years in business for the 1620 Winery and Sip. \nImagine you’ve arrived for one of our famous Pairing Dinners when suddenly there’s word of a crime having taken place on the premises. No one seems sure of what may have happened\, or who could be responsible. (Perhaps even you had something to do with it?). As the evening progresses and the courses are served\, clues begin to emerge pointing to a potential answer to the mystery. At the end of the evening\, you’ll have a chance to expose who you think is the guilty party If you’re correct\, the case will be resolved\, the perpetrator brought to justice\, and your detective skills recognized. You may even be rewarded with a free bottle of our special 10 th anniversary wine “Bellissimo” or a Sip gift Card. (Winner will be chosen at random from correct entries). Whether you choose to participate in the drama or remain an onlooker\, it’s sure to be a great time at Sip. \nTHE MENU:\nWELCOME PASSED APPS: \nMini beef wellington- \nFred mozzarella bites \nMini street corn empanadas \nFIRST COURSE:\nWaldorf Salad\nSpring mix\, celery\, walnuts\, apple\, red grapes\, creamy lemon vinaigrette \nPaired with French Murder 75 \nSECOND COURSE:\n8oz filet mignon\nserved with herbed citrus rubbed root veg \nPaired with “Whiskey Business” Old Fashioned \nTHIRD COURSE:\nCherry cheesecake \nPaired with “The Amaretto Adlib” Amaretto Sour \nADDITIONAL THEMED COCKTAILS\nAvaiable to order from the cash bar: \n“The Femme Fatale” Cosmo \n“The Bitter End” Negroni \n“The Pineapple Poison” Pineapple Punch
URL:https://1620winebar.com/event/murder-mystery-dinner-at-sip/
LOCATION:Sip at 1620 Wine Bar\, 170 Water Street\, Plymouth\, 02360\, United States
CATEGORIES:Entertainment,Events,Live Music
ATTACH;FMTTYPE=image/jpeg:https://1620winebar.com/wp-content/uploads/2026/02/murdersocial.jpg
END:VEVENT
BEGIN:VEVENT
DTSTART;TZID=America/New_York:20261023T180000
DTEND;TZID=America/New_York:20261023T210000
DTSTAMP:20260423T031419
CREATED:20250627T181534Z
LAST-MODIFIED:20260419T011248Z
UID:10000658-1792778400-1792789200@1620winebar.com
SUMMARY:Live Music with Mackenzie Lee Clement
DESCRIPTION:Mackenzie Lee Clement is a 23 year old Massachusetts-based singer\, songwriter and pianist. A recent Berklee College of Music graduate\, her style reflects the compositions of Stevie Wonder\, Carol King\, Elton John and others\, blending new style with old classics.
URL:https://1620winebar.com/event/live-music-with-mackenzie-lee-clement-2/2026-10-23/
LOCATION:Sip at 1620 Wine Bar\, 170 Water Street\, Plymouth\, 02360\, United States
CATEGORIES:Entertainment,Live Music
ATTACH;FMTTYPE=image/jpeg:https://1620winebar.com/wp-content/uploads/2025/06/mackenzie.jpg
END:VEVENT
BEGIN:VEVENT
DTSTART;TZID=America/New_York:20261024T180000
DTEND;TZID=America/New_York:20261024T210000
DTSTAMP:20260423T031419
CREATED:20241024T192848Z
LAST-MODIFIED:20260419T002530Z
UID:10000671-1792864800-1792875600@1620winebar.com
SUMMARY:Live Music with John Foster
DESCRIPTION:John’s extensive professional musical and performance career spans over 20 years. A highly skilled musician with an exceptional voice John is performing acoustic solo shows in the New England area. His seemingly unlimited repertoire covers popular classic\, contemporary and original music. He recently completed a project with the “Jim Libby Band” winners of the 2013 “MCMAA Horizon Band” award.
URL:https://1620winebar.com/event/john-foster/2026-10-24/
LOCATION:Sip at 1620 Wine Bar\, 170 Water Street\, Plymouth\, 02360\, United States
ATTACH;FMTTYPE=image/jpeg:https://1620winebar.com/wp-content/uploads/2024/10/john-foster.jpg
END:VEVENT
BEGIN:VEVENT
DTSTART;TZID=America/New_York:20261030T180000
DTEND;TZID=America/New_York:20261030T210000
DTSTAMP:20260423T031419
CREATED:20241003T172506Z
LAST-MODIFIED:20260419T005122Z
UID:10000692-1793383200-1793394000@1620winebar.com
SUMMARY:Live Music with Chris Ballerini
DESCRIPTION:South Shore native Chris Ballerini has been writing songs and performing all over New England since returning from Alaska in 2015. He formed the band SixFoxWhiskey shortly thereafter\, releasing three studio albums and several singles with the group.
URL:https://1620winebar.com/event/chris-ballerini/2026-10-30/
LOCATION:Sip at 1620 Wine Bar\, 170 Water Street\, Plymouth\, 02360\, United States
CATEGORIES:Live Music
ATTACH;FMTTYPE=image/jpeg:https://1620winebar.com/wp-content/uploads/2024/10/chris-ballerini.jpg
END:VEVENT
BEGIN:VEVENT
DTSTART;TZID=America/New_York:20261031T180000
DTEND;TZID=America/New_York:20261031T210000
DTSTAMP:20260423T031419
CREATED:20260220T165231Z
LAST-MODIFIED:20260419T001721Z
UID:10000663-1793469600-1793480400@1620winebar.com
SUMMARY:Live Music with Kyle Morrison
DESCRIPTION:Kyle is a force to be reckoned with\, both on electric and acoustic guitar as well as lead/harmonizing vocals.
URL:https://1620winebar.com/event/live-music-with-kyle-morrison-2/2026-10-31/
LOCATION:Sip at 1620 Wine Bar\, 170 Water Street\, Plymouth\, 02360\, United States
CATEGORIES:Entertainment,Events,Live Music
ATTACH;FMTTYPE=image/jpeg:https://1620winebar.com/wp-content/uploads/2025/09/kyle-morrison.jpg
END:VEVENT
BEGIN:VEVENT
DTSTART;TZID=America/New_York:20261106T180000
DTEND;TZID=America/New_York:20261106T210000
DTSTAMP:20260423T031419
CREATED:20240904T180633Z
LAST-MODIFIED:20260419T000101Z
UID:10000652-1793988000-1793998800@1620winebar.com
SUMMARY:Live Music with Valerie Barretto
DESCRIPTION:A female singer/songwriter with a distinctly authentic country flair\, Valerie Barretto is a major draw at venues across the south shore. Come see what the buzz is all about.
URL:https://1620winebar.com/event/live-music-with-valerie-barretto-3/2026-11-06/
LOCATION:Sip at 1620 Wine Bar\, 170 Water Street\, Plymouth\, 02360\, United States
CATEGORIES:Entertainment,Live Music
ATTACH;FMTTYPE=image/jpeg:https://1620winebar.com/wp-content/uploads/2024/03/valerie2.jpg
END:VEVENT
BEGIN:VEVENT
DTSTART;TZID=America/New_York:20261107T180000
DTEND;TZID=America/New_York:20261107T210000
DTSTAMP:20260423T031419
CREATED:20240328T145729Z
LAST-MODIFIED:20260418T235638Z
UID:10000644-1794074400-1794085200@1620winebar.com
SUMMARY:Live Music with Paul Horton
DESCRIPTION:Singer\, songwriter and professional musician\, Paul Horton has played venues large and small over the past 25 years. With a perfect set list\, warm vocals and great rhythm guitar chops\, Paul creates the perfect mood for dining\, drinking and appreciating your favorite songs delivered with real feeling.
URL:https://1620winebar.com/event/live-music-with-paul-horton/2026-11-07/
LOCATION:Sip at 1620 Wine Bar\, 170 Water Street\, Plymouth\, 02360\, United States
CATEGORIES:Entertainment,Live Music
ATTACH;FMTTYPE=image/jpeg:https://1620winebar.com/wp-content/uploads/2024/03/horton.jpg
END:VEVENT
BEGIN:VEVENT
DTSTART;TZID=America/New_York:20261113T180000
DTEND;TZID=America/New_York:20261113T210000
DTSTAMP:20260423T031419
CREATED:20250820T221634Z
LAST-MODIFIED:20260419T003117Z
UID:10000679-1794592800-1794603600@1620winebar.com
SUMMARY:Live Music with John Chebator
DESCRIPTION:John Chebator is a staple in the music scene on the south shore and well beyong. Come check out his great setlist!
URL:https://1620winebar.com/event/live-music-with-john-chebator/2026-11-13/
LOCATION:Sip at 1620 Wine Bar\, 170 Water Street\, Plymouth\, 02360\, United States
CATEGORIES:Entertainment,Events,Live Music
ATTACH;FMTTYPE=image/jpeg:https://1620winebar.com/wp-content/uploads/2025/08/john-chebator.jpg
END:VEVENT
BEGIN:VEVENT
DTSTART;TZID=America/New_York:20261114T180000
DTEND;TZID=America/New_York:20261114T210000
DTSTAMP:20260423T031419
CREATED:20241003T172506Z
LAST-MODIFIED:20260419T005122Z
UID:10000693-1794679200-1794690000@1620winebar.com
SUMMARY:Live Music with Chris Ballerini
DESCRIPTION:South Shore native Chris Ballerini has been writing songs and performing all over New England since returning from Alaska in 2015. He formed the band SixFoxWhiskey shortly thereafter\, releasing three studio albums and several singles with the group.
URL:https://1620winebar.com/event/chris-ballerini/2026-11-14/
LOCATION:Sip at 1620 Wine Bar\, 170 Water Street\, Plymouth\, 02360\, United States
CATEGORIES:Live Music
ATTACH;FMTTYPE=image/jpeg:https://1620winebar.com/wp-content/uploads/2024/10/chris-ballerini.jpg
END:VEVENT
BEGIN:VEVENT
DTSTART;TZID=America/New_York:20261118T180000
DTEND;TZID=America/New_York:20261118T210000
DTSTAMP:20260423T031419
CREATED:20260227T133530Z
LAST-MODIFIED:20260227T133547Z
UID:10000626-1795024800-1795035600@1620winebar.com
SUMMARY:Friendsgiving Pairing Dinner
DESCRIPTION:Get your besties together for a pre-thanksgiving time together with a 4 course pairing dinner at Sip!\nCLICK HERE FOR TICKETS \nTake time to celebrate your thankfulness for your besties with a Four Course Friendsgiving Pairing DInner at Sip. This special culinary event to celebrate 10 Years in business is limited to 20 guests so reserve your spot now. \nTHE MENU\nFIRST COURSE:\nButternut squash soup\nRich butternut soup topped with crème fraiche\, crispy butternut & apple cider reduction \nPaired with Apple Bourbon Mule \nSECOND COURSE: \nMaple siracha glazed brussel sprouts& crispy sweet potato wedges\nTopped with crispy brown sugar bacon bits \nPaired with White Cran Cosmo \nTHIRD COURSE:\nRoast turkey dinner\nSliced turkey breast served on top of potato puree\, topped with turkey au jus & crispy squash rings \nPaired with Cran Orange Whiskey Smash \nFOURTH COURSE: \nPumpkin pie crisp \nPaired with Espresso Martini
URL:https://1620winebar.com/event/friendsgiving-pairing-dinner/
LOCATION:Sip at 1620 Wine Bar\, 170 Water Street\, Plymouth\, 02360\, United States
CATEGORIES:Entertainment,Events,Live Music
ATTACH;FMTTYPE=image/jpeg:https://1620winebar.com/wp-content/uploads/2026/02/friends-social.jpg
END:VEVENT
BEGIN:VEVENT
DTSTART;TZID=America/New_York:20261120T180000
DTEND;TZID=America/New_York:20261120T210000
DTSTAMP:20260423T031419
CREATED:20240328T143554Z
LAST-MODIFIED:20260419T003609Z
UID:10000684-1795197600-1795208400@1620winebar.com
SUMMARY:Live Music with Dylan Wheaton
DESCRIPTION:Dylan Wheaton has been an active musician over 20 years. Raised by a family of musicians himself\, he has fostered a love and appreciation for a variety of instruments and a vast selection of genres all of which he executes with perfection at multiple venues across the south shore and to his broad online fanbase.
URL:https://1620winebar.com/event/live-music-with-dylan-wheaton/2026-11-20/
LOCATION:Sip at 1620 Wine Bar\, 170 Water Street\, Plymouth\, 02360\, United States
CATEGORIES:Entertainment,Live Music
ATTACH;FMTTYPE=image/jpeg:https://1620winebar.com/wp-content/uploads/2024/03/dylan.jpg
END:VEVENT
BEGIN:VEVENT
DTSTART;TZID=America/New_York:20261121T180000
DTEND;TZID=America/New_York:20261121T210000
DTSTAMP:20260423T031419
CREATED:20240328T145729Z
LAST-MODIFIED:20260418T235638Z
UID:10000645-1795284000-1795294800@1620winebar.com
SUMMARY:Live Music with Paul Horton
DESCRIPTION:Singer\, songwriter and professional musician\, Paul Horton has played venues large and small over the past 25 years. With a perfect set list\, warm vocals and great rhythm guitar chops\, Paul creates the perfect mood for dining\, drinking and appreciating your favorite songs delivered with real feeling.
URL:https://1620winebar.com/event/live-music-with-paul-horton/2026-11-21/
LOCATION:Sip at 1620 Wine Bar\, 170 Water Street\, Plymouth\, 02360\, United States
CATEGORIES:Entertainment,Live Music
ATTACH;FMTTYPE=image/jpeg:https://1620winebar.com/wp-content/uploads/2024/03/horton.jpg
END:VEVENT
BEGIN:VEVENT
DTSTART;TZID=America/New_York:20261127T180000
DTEND;TZID=America/New_York:20261127T210000
DTSTAMP:20260423T031419
CREATED:20241024T192848Z
LAST-MODIFIED:20260419T002530Z
UID:10000672-1795802400-1795813200@1620winebar.com
SUMMARY:Live Music with John Foster
DESCRIPTION:John’s extensive professional musical and performance career spans over 20 years. A highly skilled musician with an exceptional voice John is performing acoustic solo shows in the New England area. His seemingly unlimited repertoire covers popular classic\, contemporary and original music. He recently completed a project with the “Jim Libby Band” winners of the 2013 “MCMAA Horizon Band” award.
URL:https://1620winebar.com/event/john-foster/2026-11-27/
LOCATION:Sip at 1620 Wine Bar\, 170 Water Street\, Plymouth\, 02360\, United States
ATTACH;FMTTYPE=image/jpeg:https://1620winebar.com/wp-content/uploads/2024/10/john-foster.jpg
END:VEVENT
BEGIN:VEVENT
DTSTART;TZID=America/New_York:20261128T180000
DTEND;TZID=America/New_York:20261128T210000
DTSTAMP:20260423T031419
CREATED:20260220T165231Z
LAST-MODIFIED:20260419T001721Z
UID:10000664-1795888800-1795899600@1620winebar.com
SUMMARY:Live Music with Kyle Morrison
DESCRIPTION:Kyle is a force to be reckoned with\, both on electric and acoustic guitar as well as lead/harmonizing vocals.
URL:https://1620winebar.com/event/live-music-with-kyle-morrison-2/2026-11-28/
LOCATION:Sip at 1620 Wine Bar\, 170 Water Street\, Plymouth\, 02360\, United States
CATEGORIES:Entertainment,Events,Live Music
ATTACH;FMTTYPE=image/jpeg:https://1620winebar.com/wp-content/uploads/2025/09/kyle-morrison.jpg
END:VEVENT
BEGIN:VEVENT
DTSTART;TZID=America/New_York:20261204T180000
DTEND;TZID=America/New_York:20261204T210000
DTSTAMP:20260423T031419
CREATED:20241003T172506Z
LAST-MODIFIED:20260419T005122Z
UID:10000694-1796407200-1796418000@1620winebar.com
SUMMARY:Live Music with Chris Ballerini
DESCRIPTION:South Shore native Chris Ballerini has been writing songs and performing all over New England since returning from Alaska in 2015. He formed the band SixFoxWhiskey shortly thereafter\, releasing three studio albums and several singles with the group.
URL:https://1620winebar.com/event/chris-ballerini/2026-12-04/
LOCATION:Sip at 1620 Wine Bar\, 170 Water Street\, Plymouth\, 02360\, United States
CATEGORIES:Live Music
ATTACH;FMTTYPE=image/jpeg:https://1620winebar.com/wp-content/uploads/2024/10/chris-ballerini.jpg
END:VEVENT
BEGIN:VEVENT
DTSTART;TZID=America/New_York:20261205T180000
DTEND;TZID=America/New_York:20261205T210000
DTSTAMP:20260423T031419
CREATED:20240328T145729Z
LAST-MODIFIED:20260418T235638Z
UID:10000646-1796493600-1796504400@1620winebar.com
SUMMARY:Live Music with Paul Horton
DESCRIPTION:Singer\, songwriter and professional musician\, Paul Horton has played venues large and small over the past 25 years. With a perfect set list\, warm vocals and great rhythm guitar chops\, Paul creates the perfect mood for dining\, drinking and appreciating your favorite songs delivered with real feeling.
URL:https://1620winebar.com/event/live-music-with-paul-horton/2026-12-05/
LOCATION:Sip at 1620 Wine Bar\, 170 Water Street\, Plymouth\, 02360\, United States
CATEGORIES:Entertainment,Live Music
ATTACH;FMTTYPE=image/jpeg:https://1620winebar.com/wp-content/uploads/2024/03/horton.jpg
END:VEVENT
BEGIN:VEVENT
DTSTART;TZID=America/New_York:20261211T180000
DTEND;TZID=America/New_York:20261211T210000
DTSTAMP:20260423T031419
CREATED:20240904T182001Z
LAST-MODIFIED:20260419T003235Z
UID:10000681-1797012000-1797022800@1620winebar.com
SUMMARY:Live Music with Erin Wilson
DESCRIPTION:Born and raised in a small town in Alabama\, Erin has navigated many roads and unbeaten paths on her musical journey. There has never been a time when Erin wasn’t singing or performing. Her parents remember her first belting out Celine Dion’s “My Heart Will Go On” around the house and knew she was born to perform.
URL:https://1620winebar.com/event/live-music-with-erin-wilson/2026-12-11/
LOCATION:Sip at 1620 Wine Bar\, 170 Water Street\, Plymouth\, 02360\, United States
CATEGORIES:Live Music
ATTACH;FMTTYPE=image/jpeg:https://1620winebar.com/wp-content/uploads/2024/09/erinwilson.jpg
END:VEVENT
BEGIN:VEVENT
DTSTART;TZID=America/New_York:20261212T180000
DTEND;TZID=America/New_York:20261212T210000
DTSTAMP:20260423T031419
CREATED:20241024T192848Z
LAST-MODIFIED:20260419T002530Z
UID:10000673-1797098400-1797109200@1620winebar.com
SUMMARY:Live Music with John Foster
DESCRIPTION:John’s extensive professional musical and performance career spans over 20 years. A highly skilled musician with an exceptional voice John is performing acoustic solo shows in the New England area. His seemingly unlimited repertoire covers popular classic\, contemporary and original music. He recently completed a project with the “Jim Libby Band” winners of the 2013 “MCMAA Horizon Band” award.
URL:https://1620winebar.com/event/john-foster/2026-12-12/
LOCATION:Sip at 1620 Wine Bar\, 170 Water Street\, Plymouth\, 02360\, United States
ATTACH;FMTTYPE=image/jpeg:https://1620winebar.com/wp-content/uploads/2024/10/john-foster.jpg
END:VEVENT
BEGIN:VEVENT
DTSTART;TZID=America/New_York:20261217T180000
DTEND;TZID=America/New_York:20261217T210000
DTSTAMP:20260423T031419
CREATED:20260222T144231Z
LAST-MODIFIED:20260222T144231Z
UID:10000620-1797530400-1797541200@1620winebar.com
SUMMARY:Holiday Cocktail Gala- 10 Year Anniversary Celebration
DESCRIPTION:We couldn’t let our 10th Christmas in business pass without marking the occasion in style! All are invited to attend an elegant evening of hand crafted holiday inspired cocktails and special menu items at our Holiday Cocktail Gala. All are encouraged to wear their festive cocktail attire and holiday-chic outfits. Here’s some of what will be on the special menu! Of course our regular full tapas menu will also be available. \nTHE SPECIAL MENU: \nCranberry brie bites\nPuff pastry stuffed with brie & cranberrie chutney\, baked to perfection \nCrispy garlic parm potato bites\nGarlic parm potatoes baked to crispy perfection served on top of whipped feta & zested with fresh lemon & herbs \nCannoli dip\nHouse made cannoli filling topped with chocolate chips & served with waffle cone pieces \nProsciutto crostini\nSour dough crostini topped with herbed ricotta\, crispy prosciutto & topped with pomegranate
URL:https://1620winebar.com/event/holiday-cocktail-gala-10-year-anniversary-celebration/
LOCATION:Sip at 1620 Wine Bar\, 170 Water Street\, Plymouth\, 02360\, United States
CATEGORIES:Entertainment,Events,Live Music
ATTACH;FMTTYPE=image/jpeg:https://1620winebar.com/wp-content/uploads/2026/02/winesopcial-2-2.jpg
END:VEVENT
BEGIN:VEVENT
DTSTART;TZID=America/New_York:20261218T180000
DTEND;TZID=America/New_York:20261218T210000
DTSTAMP:20260423T031419
CREATED:20241003T172506Z
LAST-MODIFIED:20260419T005122Z
UID:10000695-1797616800-1797627600@1620winebar.com
SUMMARY:Live Music with Chris Ballerini
DESCRIPTION:South Shore native Chris Ballerini has been writing songs and performing all over New England since returning from Alaska in 2015. He formed the band SixFoxWhiskey shortly thereafter\, releasing three studio albums and several singles with the group.
URL:https://1620winebar.com/event/chris-ballerini/2026-12-18/
LOCATION:Sip at 1620 Wine Bar\, 170 Water Street\, Plymouth\, 02360\, United States
CATEGORIES:Live Music
ATTACH;FMTTYPE=image/jpeg:https://1620winebar.com/wp-content/uploads/2024/10/chris-ballerini.jpg
END:VEVENT
BEGIN:VEVENT
DTSTART;TZID=America/New_York:20261219T180000
DTEND;TZID=America/New_York:20261219T210000
DTSTAMP:20260423T031419
CREATED:20240328T145729Z
LAST-MODIFIED:20260418T235638Z
UID:10000647-1797703200-1797714000@1620winebar.com
SUMMARY:Live Music with Paul Horton
DESCRIPTION:Singer\, songwriter and professional musician\, Paul Horton has played venues large and small over the past 25 years. With a perfect set list\, warm vocals and great rhythm guitar chops\, Paul creates the perfect mood for dining\, drinking and appreciating your favorite songs delivered with real feeling.
URL:https://1620winebar.com/event/live-music-with-paul-horton/2026-12-19/
LOCATION:Sip at 1620 Wine Bar\, 170 Water Street\, Plymouth\, 02360\, United States
CATEGORIES:Entertainment,Live Music
ATTACH;FMTTYPE=image/jpeg:https://1620winebar.com/wp-content/uploads/2024/03/horton.jpg
END:VEVENT
BEGIN:VEVENT
DTSTART;TZID=America/New_York:20270108T180000
DTEND;TZID=America/New_York:20270108T210000
DTSTAMP:20260423T031419
CREATED:20241003T172506Z
LAST-MODIFIED:20260419T005122Z
UID:10000696-1799431200-1799442000@1620winebar.com
SUMMARY:Live Music with Chris Ballerini
DESCRIPTION:South Shore native Chris Ballerini has been writing songs and performing all over New England since returning from Alaska in 2015. He formed the band SixFoxWhiskey shortly thereafter\, releasing three studio albums and several singles with the group.
URL:https://1620winebar.com/event/chris-ballerini/2027-01-08/
LOCATION:Sip at 1620 Wine Bar\, 170 Water Street\, Plymouth\, 02360\, United States
CATEGORIES:Live Music
ATTACH;FMTTYPE=image/jpeg:https://1620winebar.com/wp-content/uploads/2024/10/chris-ballerini.jpg
END:VEVENT
BEGIN:VEVENT
DTSTART;TZID=America/New_York:20270109T180000
DTEND;TZID=America/New_York:20270109T210000
DTSTAMP:20260423T031419
CREATED:20240328T145729Z
LAST-MODIFIED:20260418T235638Z
UID:10000648-1799517600-1799528400@1620winebar.com
SUMMARY:Live Music with Paul Horton
DESCRIPTION:Singer\, songwriter and professional musician\, Paul Horton has played venues large and small over the past 25 years. With a perfect set list\, warm vocals and great rhythm guitar chops\, Paul creates the perfect mood for dining\, drinking and appreciating your favorite songs delivered with real feeling.
URL:https://1620winebar.com/event/live-music-with-paul-horton/2027-01-09/
LOCATION:Sip at 1620 Wine Bar\, 170 Water Street\, Plymouth\, 02360\, United States
CATEGORIES:Entertainment,Live Music
ATTACH;FMTTYPE=image/jpeg:https://1620winebar.com/wp-content/uploads/2024/03/horton.jpg
END:VEVENT
END:VCALENDAR