BEGIN:VCALENDAR
VERSION:2.0
PRODID:-//Sip at 1620 - ECPv6.15.20//NONSGML v1.0//EN
CALSCALE:GREGORIAN
METHOD:PUBLISH
X-ORIGINAL-URL:https://1620winebar.com
X-WR-CALDESC:Events for Sip at 1620
REFRESH-INTERVAL;VALUE=DURATION:PT1H
X-Robots-Tag:noindex
X-PUBLISHED-TTL:PT1H
BEGIN:VTIMEZONE
TZID:America/New_York
BEGIN:DAYLIGHT
TZOFFSETFROM:-0500
TZOFFSETTO:-0400
TZNAME:EDT
DTSTART:20250309T070000
END:DAYLIGHT
BEGIN:STANDARD
TZOFFSETFROM:-0400
TZOFFSETTO:-0500
TZNAME:EST
DTSTART:20251102T060000
END:STANDARD
BEGIN:DAYLIGHT
TZOFFSETFROM:-0500
TZOFFSETTO:-0400
TZNAME:EDT
DTSTART:20260308T070000
END:DAYLIGHT
BEGIN:STANDARD
TZOFFSETFROM:-0400
TZOFFSETTO:-0500
TZNAME:EST
DTSTART:20261101T060000
END:STANDARD
BEGIN:DAYLIGHT
TZOFFSETFROM:-0500
TZOFFSETTO:-0400
TZNAME:EDT
DTSTART:20270314T070000
END:DAYLIGHT
BEGIN:STANDARD
TZOFFSETFROM:-0400
TZOFFSETTO:-0500
TZNAME:EST
DTSTART:20271107T060000
END:STANDARD
END:VTIMEZONE
BEGIN:VEVENT
DTSTART;TZID=America/New_York:20260808T180000
DTEND;TZID=America/New_York:20260808T210000
DTSTAMP:20260422T235412
CREATED:20250820T221634Z
LAST-MODIFIED:20260419T003117Z
UID:10000676-1786212000-1786222800@1620winebar.com
SUMMARY:Live Music with John Chebator
DESCRIPTION:John Chebator is a staple in the music scene on the south shore and well beyong. Come check out his great setlist!
URL:https://1620winebar.com/event/live-music-with-john-chebator/2026-08-08/
LOCATION:Sip at 1620 Wine Bar\, 170 Water Street\, Plymouth\, 02360\, United States
CATEGORIES:Entertainment,Events,Live Music
ATTACH;FMTTYPE=image/jpeg:https://1620winebar.com/wp-content/uploads/2025/08/john-chebator.jpg
END:VEVENT
BEGIN:VEVENT
DTSTART;TZID=America/New_York:20260812T180000
DTEND;TZID=America/New_York:20260812T210000
DTSTAMP:20260422T235412
CREATED:20251230T133120Z
LAST-MODIFIED:20260419T004051Z
UID:10000685-1786557600-1786568400@1620winebar.com
SUMMARY:Live Music with Dan Felix
DESCRIPTION:Dan Felix is a multi-instrumentalist known for his work as a saxophonist\, vocalist\, and guitarist. He leads the band Total Strangers and has performed with notable groups such as SixFoxWhiskey\, The Elovaters\, and Pigeons Playing Ping Pong.
URL:https://1620winebar.com/event/live-music-with-dan-felix/2026-08-12/
LOCATION:Sip at 1620 Wine Bar\, 170 Water Street\, Plymouth\, 02360\, United States
CATEGORIES:Entertainment,Events,Live Music
ATTACH;FMTTYPE=image/jpeg:https://1620winebar.com/wp-content/uploads/2025/12/dan-felix.jpg
END:VEVENT
BEGIN:VEVENT
DTSTART;TZID=America/New_York:20260812T190000
DTEND;TZID=America/New_York:20260812T220000
DTSTAMP:20260422T235412
CREATED:20260227T131922Z
LAST-MODIFIED:20260227T131922Z
UID:10000623-1786561200-1786572000@1620winebar.com
SUMMARY:Sunset Pairing Dinner
DESCRIPTION:Summer goes fast. Make the most of it!\nCLICK HERE FOR TICKETS\nReserve your space now for Sip’s Summer Sunset Pairing Dinner. Four perfectly paired food & cocktails courses served on our waterfront patio. The event starts at 7PM perfectly timed to enjoy golden hour and sunset. This special culinary event in celebration of our 10 years in business is limited to 20 guests. Claim your tickets early. \nTHE MENU\nFIRST COURSE:\nShredded Brussel Sprout Salad\nPeach\, pumpkin seed\, toasted almond\, tahini poppy seed dressing \nPaired with Spicy Cucumber Margarita \nSECOND COURSE:\nCorn Chowder\nSweet corn\, red pepper\, onion\, celery\, potato\, cream broth \nPaired with Mojito \nTHIRD COURSE:\nSeared statler chicken\nStatler chicken\, roasted zucchini\, tempura fried squash rings\, herb au jus \nPaired with Hugo Spritz \nFOURTH COURSE:\nCookie Skillet \nPaired with Smores Old Fashioned
URL:https://1620winebar.com/event/sunset-pairing-dinner/
LOCATION:Sip at 1620 Wine Bar\, 170 Water Street\, Plymouth\, 02360\, United States
CATEGORIES:Entertainment,Events,Live Music
ATTACH;FMTTYPE=image/jpeg:https://1620winebar.com/wp-content/uploads/2026/02/patiopairing-scoial.jpg
END:VEVENT
BEGIN:VEVENT
DTSTART;TZID=America/New_York:20260814T080000
DTEND;TZID=America/New_York:20260814T170000
DTSTAMP:20260422T235412
CREATED:20241024T192848Z
LAST-MODIFIED:20260419T002530Z
UID:10000667-1786694400-1786726800@1620winebar.com
SUMMARY:Live Music with John Foster
DESCRIPTION:John’s extensive professional musical and performance career spans over 20 years. A highly skilled musician with an exceptional voice John is performing acoustic solo shows in the New England area. His seemingly unlimited repertoire covers popular classic\, contemporary and original music. He recently completed a project with the “Jim Libby Band” winners of the 2013 “MCMAA Horizon Band” award.
URL:https://1620winebar.com/event/john-foster/2026-08-14/
LOCATION:Sip at 1620 Wine Bar\, 170 Water Street\, Plymouth\, 02360\, United States
ATTACH;FMTTYPE=image/jpeg:https://1620winebar.com/wp-content/uploads/2024/10/john-foster.jpg
END:VEVENT
BEGIN:VEVENT
DTSTART;TZID=America/New_York:20260815T180000
DTEND;TZID=America/New_York:20260815T210000
DTSTAMP:20260422T235412
CREATED:20240328T145729Z
LAST-MODIFIED:20260418T235638Z
UID:10000640-1786816800-1786827600@1620winebar.com
SUMMARY:Live Music with Paul Horton
DESCRIPTION:Singer\, songwriter and professional musician\, Paul Horton has played venues large and small over the past 25 years. With a perfect set list\, warm vocals and great rhythm guitar chops\, Paul creates the perfect mood for dining\, drinking and appreciating your favorite songs delivered with real feeling.
URL:https://1620winebar.com/event/live-music-with-paul-horton/2026-08-15/
LOCATION:Sip at 1620 Wine Bar\, 170 Water Street\, Plymouth\, 02360\, United States
CATEGORIES:Entertainment,Live Music
ATTACH;FMTTYPE=image/jpeg:https://1620winebar.com/wp-content/uploads/2024/03/horton.jpg
END:VEVENT
BEGIN:VEVENT
DTSTART;TZID=America/New_York:20260821T180000
DTEND;TZID=America/New_York:20260821T210000
DTSTAMP:20260422T235412
CREATED:20250820T221634Z
LAST-MODIFIED:20260419T003117Z
UID:10000677-1787335200-1787346000@1620winebar.com
SUMMARY:Live Music with John Chebator
DESCRIPTION:John Chebator is a staple in the music scene on the south shore and well beyong. Come check out his great setlist!
URL:https://1620winebar.com/event/live-music-with-john-chebator/2026-08-21/
LOCATION:Sip at 1620 Wine Bar\, 170 Water Street\, Plymouth\, 02360\, United States
CATEGORIES:Entertainment,Events,Live Music
ATTACH;FMTTYPE=image/jpeg:https://1620winebar.com/wp-content/uploads/2025/08/john-chebator.jpg
END:VEVENT
BEGIN:VEVENT
DTSTART;TZID=America/New_York:20260822T180000
DTEND;TZID=America/New_York:20260822T210000
DTSTAMP:20260422T235412
CREATED:20240904T180633Z
LAST-MODIFIED:20260419T000101Z
UID:10000650-1787421600-1787432400@1620winebar.com
SUMMARY:Live Music with Valerie Barretto
DESCRIPTION:A female singer/songwriter with a distinctly authentic country flair\, Valerie Barretto is a major draw at venues across the south shore. Come see what the buzz is all about.
URL:https://1620winebar.com/event/live-music-with-valerie-barretto-3/2026-08-22/
LOCATION:Sip at 1620 Wine Bar\, 170 Water Street\, Plymouth\, 02360\, United States
CATEGORIES:Entertainment,Live Music
ATTACH;FMTTYPE=image/jpeg:https://1620winebar.com/wp-content/uploads/2024/03/valerie2.jpg
END:VEVENT
BEGIN:VEVENT
DTSTART;TZID=America/New_York:20260828T180000
DTEND;TZID=America/New_York:20260828T210000
DTSTAMP:20260422T235412
CREATED:20251203T142750Z
LAST-MODIFIED:20260419T010122Z
UID:10000699-1787940000-1787950800@1620winebar.com
SUMMARY:Live Music with Birch Swart
DESCRIPTION:
URL:https://1620winebar.com/event/live-music-with-birch-swart/2026-08-28/
LOCATION:Sip at 1620 Wine Bar\, 170 Water Street\, Plymouth\, 02360\, United States
CATEGORIES:Live Music
ATTACH;FMTTYPE=image/jpeg:https://1620winebar.com/wp-content/uploads/2025/12/birch-swart.jpg
END:VEVENT
BEGIN:VEVENT
DTSTART;TZID=America/New_York:20260829T180000
DTEND;TZID=America/New_York:20260829T210000
DTSTAMP:20260422T235412
CREATED:20241024T192848Z
LAST-MODIFIED:20260419T002530Z
UID:10000668-1788026400-1788037200@1620winebar.com
SUMMARY:Live Music with John Foster
DESCRIPTION:John’s extensive professional musical and performance career spans over 20 years. A highly skilled musician with an exceptional voice John is performing acoustic solo shows in the New England area. His seemingly unlimited repertoire covers popular classic\, contemporary and original music. He recently completed a project with the “Jim Libby Band” winners of the 2013 “MCMAA Horizon Band” award.
URL:https://1620winebar.com/event/john-foster/2026-08-29/
LOCATION:Sip at 1620 Wine Bar\, 170 Water Street\, Plymouth\, 02360\, United States
ATTACH;FMTTYPE=image/jpeg:https://1620winebar.com/wp-content/uploads/2024/10/john-foster.jpg
END:VEVENT
BEGIN:VEVENT
DTSTART;TZID=America/New_York:20260904T180000
DTEND;TZID=America/New_York:20260904T210000
DTSTAMP:20260422T235412
CREATED:20241003T172506Z
LAST-MODIFIED:20260419T005122Z
UID:10000689-1788544800-1788555600@1620winebar.com
SUMMARY:Live Music with Chris Ballerini
DESCRIPTION:South Shore native Chris Ballerini has been writing songs and performing all over New England since returning from Alaska in 2015. He formed the band SixFoxWhiskey shortly thereafter\, releasing three studio albums and several singles with the group.
URL:https://1620winebar.com/event/chris-ballerini/2026-09-04/
LOCATION:Sip at 1620 Wine Bar\, 170 Water Street\, Plymouth\, 02360\, United States
CATEGORIES:Live Music
ATTACH;FMTTYPE=image/jpeg:https://1620winebar.com/wp-content/uploads/2024/10/chris-ballerini.jpg
END:VEVENT
BEGIN:VEVENT
DTSTART;TZID=America/New_York:20260905T180000
DTEND;TZID=America/New_York:20260905T210000
DTSTAMP:20260422T235412
CREATED:20240328T145729Z
LAST-MODIFIED:20260418T235638Z
UID:10000641-1788631200-1788642000@1620winebar.com
SUMMARY:Live Music with Paul Horton
DESCRIPTION:Singer\, songwriter and professional musician\, Paul Horton has played venues large and small over the past 25 years. With a perfect set list\, warm vocals and great rhythm guitar chops\, Paul creates the perfect mood for dining\, drinking and appreciating your favorite songs delivered with real feeling.
URL:https://1620winebar.com/event/live-music-with-paul-horton/2026-09-05/
LOCATION:Sip at 1620 Wine Bar\, 170 Water Street\, Plymouth\, 02360\, United States
CATEGORIES:Entertainment,Live Music
ATTACH;FMTTYPE=image/jpeg:https://1620winebar.com/wp-content/uploads/2024/03/horton.jpg
END:VEVENT
BEGIN:VEVENT
DTSTART;TZID=America/New_York:20260911T180000
DTEND;TZID=America/New_York:20260911T210000
DTSTAMP:20260422T235412
CREATED:20240328T143554Z
LAST-MODIFIED:20260419T003609Z
UID:10000683-1789149600-1789160400@1620winebar.com
SUMMARY:Live Music with Dylan Wheaton
DESCRIPTION:Dylan Wheaton has been an active musician over 20 years. Raised by a family of musicians himself\, he has fostered a love and appreciation for a variety of instruments and a vast selection of genres all of which he executes with perfection at multiple venues across the south shore and to his broad online fanbase.
URL:https://1620winebar.com/event/live-music-with-dylan-wheaton/2026-09-11/
LOCATION:Sip at 1620 Wine Bar\, 170 Water Street\, Plymouth\, 02360\, United States
CATEGORIES:Entertainment,Live Music
ATTACH;FMTTYPE=image/jpeg:https://1620winebar.com/wp-content/uploads/2024/03/dylan.jpg
END:VEVENT
BEGIN:VEVENT
DTSTART;TZID=America/New_York:20260912T180000
DTEND;TZID=America/New_York:20260912T210000
DTSTAMP:20260422T235412
CREATED:20241024T192848Z
LAST-MODIFIED:20260419T002530Z
UID:10000669-1789236000-1789246800@1620winebar.com
SUMMARY:Live Music with John Foster
DESCRIPTION:John’s extensive professional musical and performance career spans over 20 years. A highly skilled musician with an exceptional voice John is performing acoustic solo shows in the New England area. His seemingly unlimited repertoire covers popular classic\, contemporary and original music. He recently completed a project with the “Jim Libby Band” winners of the 2013 “MCMAA Horizon Band” award.
URL:https://1620winebar.com/event/john-foster/2026-09-12/
LOCATION:Sip at 1620 Wine Bar\, 170 Water Street\, Plymouth\, 02360\, United States
ATTACH;FMTTYPE=image/jpeg:https://1620winebar.com/wp-content/uploads/2024/10/john-foster.jpg
END:VEVENT
BEGIN:VEVENT
DTSTART;TZID=America/New_York:20260916T180000
DTEND;TZID=America/New_York:20260916T210000
DTSTAMP:20260422T235412
CREATED:20260227T132443Z
LAST-MODIFIED:20260227T132503Z
UID:10000624-1789581600-1789592400@1620winebar.com
SUMMARY:Cabernet & Comfort Food Pairing Dinner
DESCRIPTION:Cabernet & Comfort Four Course Pairing Dinner at SIp\nCLICK HERE FOR TICKETS\nAnother culinary event to celebrate 10 years in business for 1620 Winery and Sip! \nJoin us for an autumnally appropriate evening of elevated comfort foods perfectly paired with award winning 1620 wines in our cozy tasting room. This intimate event is limited to 20 guests\, so be sure to reserve your space early. The event starts at 6PM but feel free to come early for sme appetizers and cocktails in the bar before the event starts. \nTHE MENU\nFIRST COURSE: \nPeach & Burrata Salad\nGrilled peach\, creamy burrata\, radish\, tarragon sesame vinaigrette \nPaired with our 1620 Mayflower Red Cabernet \nSECOND COURSE:\nProsciutto & Fig Stuffed Ravioli\nSherry cream sauce\, pecorino romano \nPaired with 1620 Devils Share Bourbon Barrel Aged Cabernet \nTHIRD COURSE: \nBraised Short Rib\nServed on top of creamy parm risotto \nPaired with 1620 Enchantress Reserve Cabernet \nSECOND COURSE:\nRed Wine Poached Pear\nServed with vanilla gelato \nPaired with 1620 Crimson Chocolate
URL:https://1620winebar.com/event/cabernet-comfort-food-pairing-dinner/
LOCATION:Sip at 1620 Wine Bar\, 170 Water Street\, Plymouth\, 02360\, United States
CATEGORIES:Entertainment,Events,Live Music
ATTACH;FMTTYPE=image/jpeg:https://1620winebar.com/wp-content/uploads/2026/02/winesopcial-2-3.jpg
END:VEVENT
BEGIN:VEVENT
DTSTART;TZID=America/New_York:20260919T180000
DTEND;TZID=America/New_York:20260919T210000
DTSTAMP:20260422T235412
CREATED:20250627T181534Z
LAST-MODIFIED:20260419T011248Z
UID:10000657-1789840800-1789851600@1620winebar.com
SUMMARY:Live Music with Mackenzie Lee Clement
DESCRIPTION:Mackenzie Lee Clement is a 23 year old Massachusetts-based singer\, songwriter and pianist. A recent Berklee College of Music graduate\, her style reflects the compositions of Stevie Wonder\, Carol King\, Elton John and others\, blending new style with old classics.
URL:https://1620winebar.com/event/live-music-with-mackenzie-lee-clement-2/2026-09-19/
LOCATION:Sip at 1620 Wine Bar\, 170 Water Street\, Plymouth\, 02360\, United States
CATEGORIES:Entertainment,Live Music
ATTACH;FMTTYPE=image/jpeg:https://1620winebar.com/wp-content/uploads/2025/06/mackenzie.jpg
END:VEVENT
BEGIN:VEVENT
DTSTART;TZID=America/New_York:20260925T180000
DTEND;TZID=America/New_York:20260925T210000
DTSTAMP:20260422T235412
CREATED:20241003T172506Z
LAST-MODIFIED:20260419T005122Z
UID:10000690-1790359200-1790370000@1620winebar.com
SUMMARY:Live Music with Chris Ballerini
DESCRIPTION:South Shore native Chris Ballerini has been writing songs and performing all over New England since returning from Alaska in 2015. He formed the band SixFoxWhiskey shortly thereafter\, releasing three studio albums and several singles with the group.
URL:https://1620winebar.com/event/chris-ballerini/2026-09-25/
LOCATION:Sip at 1620 Wine Bar\, 170 Water Street\, Plymouth\, 02360\, United States
CATEGORIES:Live Music
ATTACH;FMTTYPE=image/jpeg:https://1620winebar.com/wp-content/uploads/2024/10/chris-ballerini.jpg
END:VEVENT
BEGIN:VEVENT
DTSTART;TZID=America/New_York:20260926T180000
DTEND;TZID=America/New_York:20260926T210000
DTSTAMP:20260422T235412
CREATED:20240328T145729Z
LAST-MODIFIED:20260418T235638Z
UID:10000642-1790445600-1790456400@1620winebar.com
SUMMARY:Live Music with Paul Horton
DESCRIPTION:Singer\, songwriter and professional musician\, Paul Horton has played venues large and small over the past 25 years. With a perfect set list\, warm vocals and great rhythm guitar chops\, Paul creates the perfect mood for dining\, drinking and appreciating your favorite songs delivered with real feeling.
URL:https://1620winebar.com/event/live-music-with-paul-horton/2026-09-26/
LOCATION:Sip at 1620 Wine Bar\, 170 Water Street\, Plymouth\, 02360\, United States
CATEGORIES:Entertainment,Live Music
ATTACH;FMTTYPE=image/jpeg:https://1620winebar.com/wp-content/uploads/2024/03/horton.jpg
END:VEVENT
BEGIN:VEVENT
DTSTART;TZID=America/New_York:20261002T180000
DTEND;TZID=America/New_York:20261002T210000
DTSTAMP:20260422T235412
CREATED:20250820T221634Z
LAST-MODIFIED:20260419T003117Z
UID:10000678-1790964000-1790974800@1620winebar.com
SUMMARY:Live Music with John Chebator
DESCRIPTION:John Chebator is a staple in the music scene on the south shore and well beyong. Come check out his great setlist!
URL:https://1620winebar.com/event/live-music-with-john-chebator/2026-10-02/
LOCATION:Sip at 1620 Wine Bar\, 170 Water Street\, Plymouth\, 02360\, United States
CATEGORIES:Entertainment,Events,Live Music
ATTACH;FMTTYPE=image/jpeg:https://1620winebar.com/wp-content/uploads/2025/08/john-chebator.jpg
END:VEVENT
BEGIN:VEVENT
DTSTART;TZID=America/New_York:20261003T180000
DTEND;TZID=America/New_York:20261003T210000
DTSTAMP:20260422T235412
CREATED:20240328T145729Z
LAST-MODIFIED:20260418T235638Z
UID:10000643-1791050400-1791061200@1620winebar.com
SUMMARY:Live Music with Paul Horton
DESCRIPTION:Singer\, songwriter and professional musician\, Paul Horton has played venues large and small over the past 25 years. With a perfect set list\, warm vocals and great rhythm guitar chops\, Paul creates the perfect mood for dining\, drinking and appreciating your favorite songs delivered with real feeling.
URL:https://1620winebar.com/event/live-music-with-paul-horton/2026-10-03/
LOCATION:Sip at 1620 Wine Bar\, 170 Water Street\, Plymouth\, 02360\, United States
CATEGORIES:Entertainment,Live Music
ATTACH;FMTTYPE=image/jpeg:https://1620winebar.com/wp-content/uploads/2024/03/horton.jpg
END:VEVENT
BEGIN:VEVENT
DTSTART;TZID=America/New_York:20261009T180000
DTEND;TZID=America/New_York:20261009T210000
DTSTAMP:20260422T235412
CREATED:20241024T192848Z
LAST-MODIFIED:20260419T002530Z
UID:10000670-1791568800-1791579600@1620winebar.com
SUMMARY:Live Music with John Foster
DESCRIPTION:John’s extensive professional musical and performance career spans over 20 years. A highly skilled musician with an exceptional voice John is performing acoustic solo shows in the New England area. His seemingly unlimited repertoire covers popular classic\, contemporary and original music. He recently completed a project with the “Jim Libby Band” winners of the 2013 “MCMAA Horizon Band” award.
URL:https://1620winebar.com/event/john-foster/2026-10-09/
LOCATION:Sip at 1620 Wine Bar\, 170 Water Street\, Plymouth\, 02360\, United States
ATTACH;FMTTYPE=image/jpeg:https://1620winebar.com/wp-content/uploads/2024/10/john-foster.jpg
END:VEVENT
BEGIN:VEVENT
DTSTART;TZID=America/New_York:20261010T180000
DTEND;TZID=America/New_York:20261010T210000
DTSTAMP:20260422T235412
CREATED:20241003T172506Z
LAST-MODIFIED:20260419T005122Z
UID:10000691-1791655200-1791666000@1620winebar.com
SUMMARY:Live Music with Chris Ballerini
DESCRIPTION:South Shore native Chris Ballerini has been writing songs and performing all over New England since returning from Alaska in 2015. He formed the band SixFoxWhiskey shortly thereafter\, releasing three studio albums and several singles with the group.
URL:https://1620winebar.com/event/chris-ballerini/2026-10-10/
LOCATION:Sip at 1620 Wine Bar\, 170 Water Street\, Plymouth\, 02360\, United States
CATEGORIES:Live Music
ATTACH;FMTTYPE=image/jpeg:https://1620winebar.com/wp-content/uploads/2024/10/chris-ballerini.jpg
END:VEVENT
BEGIN:VEVENT
DTSTART;TZID=America/New_York:20261016T180000
DTEND;TZID=America/New_York:20261016T210000
DTSTAMP:20260422T235412
CREATED:20250716T141629Z
LAST-MODIFIED:20260419T000626Z
UID:10000655-1792173600-1792184400@1620winebar.com
SUMMARY:Live Music with Munk Duane
DESCRIPTION:2x New England Music Award Winner:\n2018 Male Performer Of The Year | 2019 Video Of The Year – “Another Day Another Bullet”
URL:https://1620winebar.com/event/live-music-with-munk-duane/2026-10-16/
LOCATION:Sip at 1620 Wine Bar\, 170 Water Street\, Plymouth\, 02360\, United States
CATEGORIES:Entertainment,Events,Live Music
ATTACH;FMTTYPE=image/jpeg:https://1620winebar.com/wp-content/uploads/2025/07/munk-duane.jpg
END:VEVENT
BEGIN:VEVENT
DTSTART;TZID=America/New_York:20261017T180000
DTEND;TZID=America/New_York:20261017T210000
DTSTAMP:20260422T235412
CREATED:20240904T180633Z
LAST-MODIFIED:20260419T000101Z
UID:10000651-1792260000-1792270800@1620winebar.com
SUMMARY:Live Music with Valerie Barretto
DESCRIPTION:A female singer/songwriter with a distinctly authentic country flair\, Valerie Barretto is a major draw at venues across the south shore. Come see what the buzz is all about.
URL:https://1620winebar.com/event/live-music-with-valerie-barretto-3/2026-10-17/
LOCATION:Sip at 1620 Wine Bar\, 170 Water Street\, Plymouth\, 02360\, United States
CATEGORIES:Entertainment,Live Music
ATTACH;FMTTYPE=image/jpeg:https://1620winebar.com/wp-content/uploads/2024/03/valerie2.jpg
END:VEVENT
BEGIN:VEVENT
DTSTART;TZID=America/New_York:20261021T180000
DTEND;TZID=America/New_York:20261021T210000
DTSTAMP:20260422T235412
CREATED:20260227T133032Z
LAST-MODIFIED:20260227T133032Z
UID:10000625-1792605600-1792616400@1620winebar.com
SUMMARY:Murder Mystery Dinner at Sip
DESCRIPTION:Get ready for a different kind of night out with the Sip Murder Mystery Dinner.\nCLICK HERE FOR TICKETS\nAnother fun event to celebrate 10 Years in business for the 1620 Winery and Sip. \nImagine you’ve arrived for one of our famous Pairing Dinners when suddenly there’s word of a crime having taken place on the premises. No one seems sure of what may have happened\, or who could be responsible. (Perhaps even you had something to do with it?). As the evening progresses and the courses are served\, clues begin to emerge pointing to a potential answer to the mystery. At the end of the evening\, you’ll have a chance to expose who you think is the guilty party If you’re correct\, the case will be resolved\, the perpetrator brought to justice\, and your detective skills recognized. You may even be rewarded with a free bottle of our special 10 th anniversary wine “Bellissimo” or a Sip gift Card. (Winner will be chosen at random from correct entries). Whether you choose to participate in the drama or remain an onlooker\, it’s sure to be a great time at Sip. \nTHE MENU:\nWELCOME PASSED APPS: \nMini beef wellington- \nFred mozzarella bites \nMini street corn empanadas \nFIRST COURSE:\nWaldorf Salad\nSpring mix\, celery\, walnuts\, apple\, red grapes\, creamy lemon vinaigrette \nPaired with French Murder 75 \nSECOND COURSE:\n8oz filet mignon\nserved with herbed citrus rubbed root veg \nPaired with “Whiskey Business” Old Fashioned \nTHIRD COURSE:\nCherry cheesecake \nPaired with “The Amaretto Adlib” Amaretto Sour \nADDITIONAL THEMED COCKTAILS\nAvaiable to order from the cash bar: \n“The Femme Fatale” Cosmo \n“The Bitter End” Negroni \n“The Pineapple Poison” Pineapple Punch
URL:https://1620winebar.com/event/murder-mystery-dinner-at-sip/
LOCATION:Sip at 1620 Wine Bar\, 170 Water Street\, Plymouth\, 02360\, United States
CATEGORIES:Entertainment,Events,Live Music
ATTACH;FMTTYPE=image/jpeg:https://1620winebar.com/wp-content/uploads/2026/02/murdersocial.jpg
END:VEVENT
BEGIN:VEVENT
DTSTART;TZID=America/New_York:20261023T180000
DTEND;TZID=America/New_York:20261023T210000
DTSTAMP:20260422T235412
CREATED:20250627T181534Z
LAST-MODIFIED:20260419T011248Z
UID:10000658-1792778400-1792789200@1620winebar.com
SUMMARY:Live Music with Mackenzie Lee Clement
DESCRIPTION:Mackenzie Lee Clement is a 23 year old Massachusetts-based singer\, songwriter and pianist. A recent Berklee College of Music graduate\, her style reflects the compositions of Stevie Wonder\, Carol King\, Elton John and others\, blending new style with old classics.
URL:https://1620winebar.com/event/live-music-with-mackenzie-lee-clement-2/2026-10-23/
LOCATION:Sip at 1620 Wine Bar\, 170 Water Street\, Plymouth\, 02360\, United States
CATEGORIES:Entertainment,Live Music
ATTACH;FMTTYPE=image/jpeg:https://1620winebar.com/wp-content/uploads/2025/06/mackenzie.jpg
END:VEVENT
BEGIN:VEVENT
DTSTART;TZID=America/New_York:20261024T180000
DTEND;TZID=America/New_York:20261024T210000
DTSTAMP:20260422T235412
CREATED:20241024T192848Z
LAST-MODIFIED:20260419T002530Z
UID:10000671-1792864800-1792875600@1620winebar.com
SUMMARY:Live Music with John Foster
DESCRIPTION:John’s extensive professional musical and performance career spans over 20 years. A highly skilled musician with an exceptional voice John is performing acoustic solo shows in the New England area. His seemingly unlimited repertoire covers popular classic\, contemporary and original music. He recently completed a project with the “Jim Libby Band” winners of the 2013 “MCMAA Horizon Band” award.
URL:https://1620winebar.com/event/john-foster/2026-10-24/
LOCATION:Sip at 1620 Wine Bar\, 170 Water Street\, Plymouth\, 02360\, United States
ATTACH;FMTTYPE=image/jpeg:https://1620winebar.com/wp-content/uploads/2024/10/john-foster.jpg
END:VEVENT
BEGIN:VEVENT
DTSTART;TZID=America/New_York:20261030T180000
DTEND;TZID=America/New_York:20261030T210000
DTSTAMP:20260422T235412
CREATED:20241003T172506Z
LAST-MODIFIED:20260419T005122Z
UID:10000692-1793383200-1793394000@1620winebar.com
SUMMARY:Live Music with Chris Ballerini
DESCRIPTION:South Shore native Chris Ballerini has been writing songs and performing all over New England since returning from Alaska in 2015. He formed the band SixFoxWhiskey shortly thereafter\, releasing three studio albums and several singles with the group.
URL:https://1620winebar.com/event/chris-ballerini/2026-10-30/
LOCATION:Sip at 1620 Wine Bar\, 170 Water Street\, Plymouth\, 02360\, United States
CATEGORIES:Live Music
ATTACH;FMTTYPE=image/jpeg:https://1620winebar.com/wp-content/uploads/2024/10/chris-ballerini.jpg
END:VEVENT
BEGIN:VEVENT
DTSTART;TZID=America/New_York:20261031T180000
DTEND;TZID=America/New_York:20261031T210000
DTSTAMP:20260422T235412
CREATED:20260220T165231Z
LAST-MODIFIED:20260419T001721Z
UID:10000663-1793469600-1793480400@1620winebar.com
SUMMARY:Live Music with Kyle Morrison
DESCRIPTION:Kyle is a force to be reckoned with\, both on electric and acoustic guitar as well as lead/harmonizing vocals.
URL:https://1620winebar.com/event/live-music-with-kyle-morrison-2/2026-10-31/
LOCATION:Sip at 1620 Wine Bar\, 170 Water Street\, Plymouth\, 02360\, United States
CATEGORIES:Entertainment,Events,Live Music
ATTACH;FMTTYPE=image/jpeg:https://1620winebar.com/wp-content/uploads/2025/09/kyle-morrison.jpg
END:VEVENT
BEGIN:VEVENT
DTSTART;TZID=America/New_York:20261106T180000
DTEND;TZID=America/New_York:20261106T210000
DTSTAMP:20260422T235412
CREATED:20240904T180633Z
LAST-MODIFIED:20260419T000101Z
UID:10000652-1793988000-1793998800@1620winebar.com
SUMMARY:Live Music with Valerie Barretto
DESCRIPTION:A female singer/songwriter with a distinctly authentic country flair\, Valerie Barretto is a major draw at venues across the south shore. Come see what the buzz is all about.
URL:https://1620winebar.com/event/live-music-with-valerie-barretto-3/2026-11-06/
LOCATION:Sip at 1620 Wine Bar\, 170 Water Street\, Plymouth\, 02360\, United States
CATEGORIES:Entertainment,Live Music
ATTACH;FMTTYPE=image/jpeg:https://1620winebar.com/wp-content/uploads/2024/03/valerie2.jpg
END:VEVENT
BEGIN:VEVENT
DTSTART;TZID=America/New_York:20261107T180000
DTEND;TZID=America/New_York:20261107T210000
DTSTAMP:20260422T235412
CREATED:20240328T145729Z
LAST-MODIFIED:20260418T235638Z
UID:10000644-1794074400-1794085200@1620winebar.com
SUMMARY:Live Music with Paul Horton
DESCRIPTION:Singer\, songwriter and professional musician\, Paul Horton has played venues large and small over the past 25 years. With a perfect set list\, warm vocals and great rhythm guitar chops\, Paul creates the perfect mood for dining\, drinking and appreciating your favorite songs delivered with real feeling.
URL:https://1620winebar.com/event/live-music-with-paul-horton/2026-11-07/
LOCATION:Sip at 1620 Wine Bar\, 170 Water Street\, Plymouth\, 02360\, United States
CATEGORIES:Entertainment,Live Music
ATTACH;FMTTYPE=image/jpeg:https://1620winebar.com/wp-content/uploads/2024/03/horton.jpg
END:VEVENT
END:VCALENDAR